BEGIN:VCALENDAR
VERSION:2.0
METHOD:PUBLISH
PRODID:-//ddaysoftware.com//NONSGML DDay.iCal 1.0//EN
BEGIN:VEVENT
DESCRIPTION:
DTEND:20220512T130000
DTSTAMP:20260421T120022
DTSTART:20220512T120000
SEQUENCE:0
SUMMARY:Small Firm Chats - Stay Connected With Your Peers and Us!
UID:52d111b0-56f2-4bc2-b957-91f4c666c02c
URL:https://services.nycbar.org/EventDetail?EventKey=SLFC051222
END:VEVENT
END:VCALENDAR
