BEGIN:VCALENDAR
VERSION:2.0
METHOD:PUBLISH
PRODID:-//ddaysoftware.com//NONSGML DDay.iCal 1.0//EN
BEGIN:VEVENT
DESCRIPTION:
DTEND:20220519T130000
DTSTAMP:20260421T115417
DTSTART:20220519T120000
SEQUENCE:0
SUMMARY:Four Steps To Transform Your Law Firm's Client Experience
UID:7ff0bbd3-8e6a-4029-859f-4098bc7f1dcb
URL:https://services.nycbar.org/EventDetail?EventKey=SLFC051922
END:VEVENT
END:VCALENDAR
