BEGIN:VCALENDAR
VERSION:2.0
METHOD:PUBLISH
PRODID:-//ddaysoftware.com//NONSGML DDay.iCal 1.0//EN
BEGIN:VEVENT
DTEND:20180430T203000
DTSTAMP:20260421T102436
DTSTART:20180430T183000
LOCATION:42 West 44th StreetNew York\, NY10036
SEQUENCE:0
SUMMARY:Taking a Knee: Legal Implications of Athlete Political and
UID:1cb46800-e5ef-4e2f-993b-7351fb69f9ef
URL:https://services.nycbar.org/EventDetail?EventKey=SPO043018
END:VEVENT
END:VCALENDAR
