BEGIN:VCALENDAR
VERSION:2.0
METHOD:PUBLISH
PRODID:-//ddaysoftware.com//NONSGML DDay.iCal 1.0//EN
BEGIN:VEVENT
DESCRIPTION:
DTEND:20231018T204500
DTSTAMP:20260420T132413
DTSTART:20231018T183000
LOCATION:New York City Bar Association42 West 44th StreetNew York\, NY10036
SEQUENCE:0
SUMMARY:Reimagining Access to Justice and The Rule of Law.
UID:026bb5d0-7b7f-411a-a039-e2e580b67382
URL:https://services.nycbar.org/EventDetail?EventKey=TFLJ101823
END:VEVENT
END:VCALENDAR
