BEGIN:VCALENDAR
VERSION:2.0
METHOD:PUBLISH
PRODID:-//ddaysoftware.com//NONSGML DDay.iCal 1.0//EN
BEGIN:VEVENT
DESCRIPTION:
DTEND:20260310T203000
DTSTAMP:20260425T124734
DTSTART:20260310T170000
LOCATION:New York City Bar Association42 West 44th StreetNew York\, NY10036
SEQUENCE:0
SUMMARY:Annual International Law Conference on the Status of Women
UID:1368db4a-94dd-41ab-a5d5-e8ca0c8fe648
URL:https://services.nycbar.org/EventDetail?EventKey=UN031026
END:VEVENT
END:VCALENDAR
