BEGIN:VCALENDAR
VERSION:2.0
METHOD:PUBLISH
PRODID:-//ddaysoftware.com//NONSGML DDay.iCal 1.0//EN
BEGIN:VEVENT
DESCRIPTION:
DTEND:20250124T170000
DTSTAMP:20260423T100342
DTSTART:20250124T090000
SEQUENCE:0
SUMMARY:16 Hour Bridge the Gap: Corporate & Litigation - Day 1 Only
UID:d0f76899-a1e2-43c6-a880-add74297599a
URL:https://services.nycbar.org/EventDetail?EventKey=_WEB012425
END:VEVENT
END:VCALENDAR
