BEGIN:VCALENDAR
VERSION:2.0
METHOD:PUBLISH
PRODID:-//ddaysoftware.com//NONSGML DDay.iCal 1.0//EN
BEGIN:VEVENT
DESCRIPTION:
DTEND:20240126T170000
DTSTAMP:20260423T041940
DTSTART:20240126T090000
SEQUENCE:0
SUMMARY:16 Hour Bridge the Gap: Corporate & Litigation - Day 1 Only
UID:5c46af33-de50-4e90-8445-f5f7dc5d28f7
URL:https://services.nycbar.org/EventDetail?EventKey=_WEB012624
END:VEVENT
END:VCALENDAR
