BEGIN:VCALENDAR
VERSION:2.0
METHOD:PUBLISH
PRODID:-//ddaysoftware.com//NONSGML DDay.iCal 1.0//EN
BEGIN:VEVENT
DESCRIPTION:
DTEND:20220224T200000
DTSTAMP:20260422T133055
DTSTART:20220224T180000
LOCATION:Online EventNY
SEQUENCE:0
SUMMARY:COVID-19 and State and Local Tax Issues in the Forefront
UID:66658074-3d05-45ab-b977-2560a3b48dd6
URL:https://services.nycbar.org/EventDetail?EventKey=_WEB022422
END:VEVENT
END:VCALENDAR
