BEGIN:VCALENDAR
VERSION:2.0
METHOD:PUBLISH
PRODID:-//ddaysoftware.com//NONSGML DDay.iCal 1.0//EN
BEGIN:VEVENT
DESCRIPTION:
DTEND:20220412T130000
DTSTAMP:20260421T103726
DTSTART:20220412T090000
SEQUENCE:0
SUMMARY:Cryptocurrency and Other Hot Topics in FinTech (Webcast)
UID:9cc1dc3e-710e-4828-bced-8fdc38fff7f0
URL:https://services.nycbar.org/EventDetail?EventKey=_WEB041222
END:VEVENT
END:VCALENDAR
