BEGIN:VCALENDAR
VERSION:2.0
METHOD:PUBLISH
PRODID:-//ddaysoftware.com//NONSGML DDay.iCal 1.0//EN
BEGIN:VEVENT
DESCRIPTION:
DTEND:20250428T160000
DTSTAMP:20260419T160706
DTSTART:20250428T130000
SEQUENCE:0
SUMMARY:Federal Court Practice 101: An Introduction to the Nuts &
UID:f53013b0-7ea1-4ea4-b36a-02539d044290
URL:https://services.nycbar.org/EventDetail?EventKey=_WEB042825
END:VEVENT
END:VCALENDAR
