BEGIN:VCALENDAR
VERSION:2.0
METHOD:PUBLISH
PRODID:-//ddaysoftware.com//NONSGML DDay.iCal 1.0//EN
BEGIN:VEVENT
DESCRIPTION:
DTEND:20230522T200000
DTSTAMP:20260423T041945
DTSTART:20230522T170000
SEQUENCE:0
SUMMARY:Current Developments in Commercial Division Practice
UID:0f9ee5ed-a86a-4934-8ee7-530a6ab0b0d9
URL:https://services.nycbar.org/EventDetail?EventKey=_WEB052223
END:VEVENT
END:VCALENDAR
