BEGIN:VCALENDAR
VERSION:2.0
METHOD:PUBLISH
PRODID:-//ddaysoftware.com//NONSGML DDay.iCal 1.0//EN
BEGIN:VEVENT
DESCRIPTION:
DTEND:20250603T111500
DTSTAMP:20260423T042848
DTSTART:20250603T093000
LOCATION:New York City Bar42 West 44th StNew York\, NY10036
SEQUENCE:0
SUMMARY:Current Governance Issues in Cooperatives & Condominiums
UID:12a09575-b1bf-49c0-a4e7-24bc322789db
URL:https://services.nycbar.org/EventDetail?EventKey=_WEB060325
END:VEVENT
END:VCALENDAR
