BEGIN:VCALENDAR
VERSION:2.0
METHOD:PUBLISH
PRODID:-//ddaysoftware.com//NONSGML DDay.iCal 1.0//EN
BEGIN:VEVENT
DESCRIPTION:
DTEND:20200715T123000
DTSTAMP:20260419T141257
DTSTART:20200715T100000
LOCATION:New York City Bar42 West 44th StNew York\, NY10036
SEQUENCE:0
SUMMARY:Ethics and the "Reasonable" Legal Fee (Webcast)
UID:ee0f422c-2c4f-47aa-8b1a-d359b4a50895
URL:https://services.nycbar.org/EventDetail?EventKey=_WEB071520
END:VEVENT
END:VCALENDAR
