BEGIN:VCALENDAR
VERSION:2.0
METHOD:PUBLISH
PRODID:-//ddaysoftware.com//NONSGML DDay.iCal 1.0//EN
BEGIN:VEVENT
DESCRIPTION:
DTEND:20200716T160000
DTSTAMP:20260424T035817
DTSTART:20200716T090000
LOCATION:New York City Bar42 West 44th StNew York\, NY10036
SEQUENCE:0
SUMMARY:16 Hour Bridge the Gap - Both Days (Webcast)
UID:a7e1547b-7858-4abc-a52c-2a65e30bbcfc
URL:https://services.nycbar.org/EventDetail?EventKey=_WEB071620
END:VEVENT
END:VCALENDAR
