BEGIN:VCALENDAR
VERSION:2.0
METHOD:PUBLISH
PRODID:-//ddaysoftware.com//NONSGML DDay.iCal 1.0//EN
BEGIN:VEVENT
DESCRIPTION:
DTEND:20210721T210000
DTSTAMP:20260423T074912
DTSTART:20210721T180000
SEQUENCE:0
SUMMARY:Supreme Court - A Year in Review\, 2020 Term (Webcast)
UID:b6823998-3609-4103-9225-f8e27da94255
URL:https://services.nycbar.org/EventDetail?EventKey=_WEB072121
END:VEVENT
END:VCALENDAR
