BEGIN:VCALENDAR
VERSION:2.0
METHOD:PUBLISH
PRODID:-//ddaysoftware.com//NONSGML DDay.iCal 1.0//EN
BEGIN:VEVENT
DESCRIPTION:
DTEND:20200721T180000
DTSTAMP:20260424T035709
DTSTART:20200721T150000
LOCATION:New York City Bar42 West 44th StNew York\, NY10036
SEQUENCE:0
SUMMARY:Estate Planning Misfires of the Rich and Famous (Webcast)
UID:9e024a8c-24b3-4383-b2c4-565c834156d4
URL:https://services.nycbar.org/EventDetail?EventKey=_WEB080520
END:VEVENT
END:VCALENDAR
