BEGIN:VCALENDAR
VERSION:2.0
METHOD:PUBLISH
PRODID:-//ddaysoftware.com//NONSGML DDay.iCal 1.0//EN
BEGIN:VEVENT
DESCRIPTION:
DTEND:20200813T130000
DTSTAMP:20260424T230550
DTSTART:20200813T120000
LOCATION:New York City Bar42 West 44th StNew York\, NY10036
SEQUENCE:0
SUMMARY:Impacts on COVID-19 on Commercial Leasing in NYC (Webinar)
UID:6e49c173-606d-418e-9d13-9da00a833b1c
URL:https://services.nycbar.org/EventDetail?EventKey=_WEB081320
END:VEVENT
END:VCALENDAR
