BEGIN:VCALENDAR
VERSION:2.0
METHOD:PUBLISH
PRODID:-//ddaysoftware.com//NONSGML DDay.iCal 1.0//EN
BEGIN:VEVENT
DESCRIPTION:
DTEND:20231107T170000
DTSTAMP:20260420T054113
DTSTART:20231107T140000
SEQUENCE:0
SUMMARY:CPLR Update 2023 (Webcast)
UID:6eff27da-bc71-4fdf-873e-e4f37cbafa6d
URL:https://services.nycbar.org/EventDetail?EventKey=_WEB110723
END:VEVENT
END:VCALENDAR
