BEGIN:VCALENDAR
VERSION:2.0
METHOD:PUBLISH
PRODID:-//ddaysoftware.com//NONSGML DDay.iCal 1.0//EN
BEGIN:VEVENT
DESCRIPTION:
DTEND:20221202T133000
DTSTAMP:20260423T192302
DTSTART:20221202T120000
SEQUENCE:0
SUMMARY:The Intersection of Bankruptcy and Arbitration in Domestic
UID:c4cc1c9b-4b2d-4cf7-ab96-04abf2819a75
URL:https://services.nycbar.org/EventDetail?EventKey=_WEB110922
END:VEVENT
END:VCALENDAR
