BEGIN:VCALENDAR
VERSION:2.0
METHOD:PUBLISH
PRODID:-//ddaysoftware.com//NONSGML DDay.iCal 1.0//EN
BEGIN:VEVENT
DESCRIPTION:
DTEND:20251205T120000
DTSTAMP:20260421T084707
DTSTART:20251205T090000
LOCATION:New York City Bar42 West 44th StNew York\, NY10036
SEQUENCE:0
SUMMARY:Digital Platform Antitrust Litigation: Lessons Learned 2025
UID:443401c1-3e1c-4a0e-bdca-001a2ee8b4ac
URL:https://services.nycbar.org/EventDetail?EventKey=_WEB120525
END:VEVENT
END:VCALENDAR
