BEGIN:VCALENDAR
VERSION:2.0
METHOD:PUBLISH
PRODID:-//ddaysoftware.com//NONSGML DDay.iCal 1.0//EN
BEGIN:VEVENT
DESCRIPTION:
DTEND:20221207T130000
DTSTAMP:20260420T032952
DTSTART:20221207T120000
LOCATION:New York City Bar42 West 44th StNew York\, NY10036
SEQUENCE:0
SUMMARY:How Billing Practices Can Foreshadow Malpractice Risk
UID:8264df75-f9c5-435b-a0ac-354181fb363c
URL:https://services.nycbar.org/EventDetail?EventKey=_WEB120722
END:VEVENT
END:VCALENDAR
