BEGIN:VCALENDAR
VERSION:2.0
METHOD:PUBLISH
PRODID:-//ddaysoftware.com//NONSGML DDay.iCal 1.0//EN
BEGIN:VEVENT
DESCRIPTION:
DTEND:20200804T113000
DTSTAMP:20260424T225215
DTSTART:20200804T100000
LOCATION:New York City Bar42 West 44th StNew York\, NY10036
SEQUENCE:0
SUMMARY:Employment During a Pandemic: Complying With OSHA (Webcast)
UID:a0c8e72f-7610-415f-935a-42a77e873dde
URL:https://services.nycbar.org/EventDetail?EventKey=_WEB80420
END:VEVENT
END:VCALENDAR
